Workbook

Sheet Долги
A1: Тетрадь долгов
A2: Каждый долг — одна строка. Принёс клиент деньги — добавьте их в «Оплачено» в той же строке (например, =50000+30000). Имя клиента пишите всегда одинаково.
A3: Итого остаток долгов: | H3: =SUM(H5:H100000) -> 244000
A4: Дата | B4: Клиент | C4: Телефон | D4: Что взял | E4: Сумма долга | F4: Срок оплаты | G4: Оплачено | H4: Остаток | I4: Статус
A5: 46285 | B5: Карим | D5: Мука, 2 мешка | E5: 380000 | F5: 46295 | G5: 200000 | H5: =IFERROR(IF(E5="","",E5-N(G5)),"") -> 180000 | I5: =IFERROR(IF(E5="","",IF(H5<=0,"Закрыт",IF(AND(F5<>"",F5<TODAY()),"Просрочен","Открыт"))),"") -> Просрочен
A6: 46297 | B6: Малика | D6: Чай и сахар | E6: 64000 | F6: 46310 | G6: 0 | H6: =IFERROR(IF(E6="","",E6-N(G6)),"") -> 64000 | I6: =IFERROR(IF(E6="","",IF(H6<=0,"Закрыт",IF(AND(F6<>"",F6<TODAY()),"Просрочен","Открыт"))),"") -> Открыт
A7: 46298 | B7: Карим | D7: Рис, 5 шт | E7: 82500 | G7: 82500 | H7: =IFERROR(IF(E7="","",E7-N(G7)),"") -> 0 | I7: =IFERROR(IF(E7="","",IF(H7<=0,"Закрыт",IF(AND(F7<>"",F7<TODAY()),"Просрочен","Открыт"))),"") -> Закрыт
H8: =IFERROR(IF(E8="","",E8-N(G8)),"") | I8: =IFERROR(IF(E8="","",IF(H8<=0,"Закрыт",IF(AND(F8<>"",F8<TODAY()),"Просрочен","Открыт"))),"")
H9: =IFERROR(IF(E9="","",E9-N(G9)),"") | I9: =IFERROR(IF(E9="","",IF(H9<=0,"Закрыт",IF(AND(F9<>"",F9<TODAY()),"Просрочен","Открыт"))),"")
H10: =IFERROR(IF(E10="","",E10-N(G10)),"") | I10: =IFERROR(IF(E10="","",IF(H10<=0,"Закрыт",IF(AND(F10<>"",F10<TODAY()),"Просрочен","Открыт"))),"")
H11: =IFERROR(IF(E11="","",E11-N(G11)),"") | I11: =IFERROR(IF(E11="","",IF(H11<=0,"Закрыт",IF(AND(F11<>"",F11<TODAY()),"Просрочен","Открыт"))),"")
H12: =IFERROR(IF(E12="","",E12-N(G12)),"") | I12: =IFERROR(IF(E12="","",IF(H12<=0,"Закрыт",IF(AND(F12<>"",F12<TODAY()),"Просрочен","Открыт"))),"")
H13: =IFERROR(IF(E13="","",E13-N(G13)),"") | I13: =IFERROR(IF(E13="","",IF(H13<=0,"Закрыт",IF(AND(F13<>"",F13<TODAY()),"Просрочен","Открыт"))),"")
H14: =IFERROR(IF(E14="","",E14-N(G14)),"") | I14: =IFERROR(IF(E14="","",IF(H14<=0,"Закрыт",IF(AND(F14<>"",F14<TODAY()),"Просрочен","Открыт"))),"")
H15: =IFERROR(IF(E15="","",E15-N(G15)),"") | I15: =IFERROR(IF(E15="","",IF(H15<=0,"Закрыт",IF(AND(F15<>"",F15<TODAY()),"Просрочен","Открыт"))),"")
H16: =IFERROR(IF(E16="","",E16-N(G16)),"") | I16: =IFERROR(IF(E16="","",IF(H16<=0,"Закрыт",IF(AND(F16<>"",F16<TODAY()),"Просрочен","Открыт"))),"")
H17: =IFERROR(IF(E17="","",E17-N(G17)),"") | I17: =IFERROR(IF(E17="","",IF(H17<=0,"Закрыт",IF(AND(F17<>"",F17<TODAY()),"Просрочен","Открыт"))),"")
H18: =IFERROR(IF(E18="","",E18-N(G18)),"") | I18: =IFERROR(IF(E18="","",IF(H18<=0,"Закрыт",IF(AND(F18<>"",F18<TODAY()),"Просрочен","Открыт"))),"")
H19: =IFERROR(IF(E19="","",E19-N(G19)),"") | I19: =IFERROR(IF(E19="","",IF(H19<=0,"Закрыт",IF(AND(F19<>"",F19<TODAY()),"Просрочен","Открыт"))),"")
... H1004: =IFERROR(IF(E1004="","",E1004-N(G1004)),"") | I1004: =IFERROR(IF(E1004="","",IF(H1004<=0,"Закрыт",IF(AND(F1004<>"",F1004<TODAY()),"Просрочен","Открыт"))),"")

Sheet Клиенты
A1: Клиенты: кто сколько должен
A2: Пишите имя клиента так же, как на листе «Долги», — суммы собираются по этому имени.
A3: Итого остаток долгов: | E3: =SUM(E5:E100000) -> 244000
A4: Клиент | B4: Телефон | C4: Всего в долг | D4: Оплачено | E4: Остаток | F4: Просроченных долгов
A5: Карим | C5: =IF(A5="","",SUMIF('Долги'!$B$5:$B$100000,A5,'Долги'!$E$5:$E$100000)) -> 462500 | D5: =IF(A5="","",SUMIF('Долги'!$B$5:$B$100000,A5,'Долги'!$G$5:$G$100000)) -> 282500 | E5: =IF(A5="","",C5-D5) -> 180000 | F5: =IF(A5="","",COUNTIFS('Долги'!$B$5:$B$100000,A5,'Долги'!$I$5:$I$100000,"Просрочен")) -> 1
A6: Малика | C6: =IF(A6="","",SUMIF('Долги'!$B$5:$B$100000,A6,'Долги'!$E$5:$E$100000)) -> 64000 | D6: =IF(A6="","",SUMIF('Долги'!$B$5:$B$100000,A6,'Долги'!$G$5:$G$100000)) -> 0 | E6: =IF(A6="","",C6-D6) -> 64000 | F6: =IF(A6="","",COUNTIFS('Долги'!$B$5:$B$100000,A6,'Долги'!$I$5:$I$100000,"Просрочен")) -> 0
C7: =IF(A7="","",SUMIF('Долги'!$B$5:$B$100000,A7,'Долги'!$E$5:$E$100000)) | D7: =IF(A7="","",SUMIF('Долги'!$B$5:$B$100000,A7,'Долги'!$G$5:$G$100000)) | E7: =IF(A7="","",C7-D7) | F7: =IF(A7="","",COUNTIFS('Долги'!$B$5:$B$100000,A7,'Долги'!$I$5:$I$100000,"Просрочен"))
C8: =IF(A8="","",SUMIF('Долги'!$B$5:$B$100000,A8,'Долги'!$E$5:$E$100000)) | D8: =IF(A8="","",SUMIF('Долги'!$B$5:$B$100000,A8,'Долги'!$G$5:$G$100000)) | E8: =IF(A8="","",C8-D8) | F8: =IF(A8="","",COUNTIFS('Долги'!$B$5:$B$100000,A8,'Долги'!$I$5:$I$100000,"Просрочен"))
C9: =IF(A9="","",SUMIF('Долги'!$B$5:$B$100000,A9,'Долги'!$E$5:$E$100000)) | D9: =IF(A9="","",SUMIF('Долги'!$B$5:$B$100000,A9,'Долги'!$G$5:$G$100000)) | E9: =IF(A9="","",C9-D9) | F9: =IF(A9="","",COUNTIFS('Долги'!$B$5:$B$100000,A9,'Долги'!$I$5:$I$100000,"Просрочен"))
C10: =IF(A10="","",SUMIF('Долги'!$B$5:$B$100000,A10,'Долги'!$E$5:$E$100000)) | D10: =IF(A10="","",SUMIF('Долги'!$B$5:$B$100000,A10,'Долги'!$G$5:$G$100000)) | E10: =IF(A10="","",C10-D10) | F10: =IF(A10="","",COUNTIFS('Долги'!$B$5:$B$100000,A10,'Долги'!$I$5:$I$100000,"Просрочен"))
C11: =IF(A11="","",SUMIF('Долги'!$B$5:$B$100000,A11,'Долги'!$E$5:$E$100000)) | D11: =IF(A11="","",SUMIF('Долги'!$B$5:$B$100000,A11,'Долги'!$G$5:$G$100000)) | E11: =IF(A11="","",C11-D11) | F11: =IF(A11="","",COUNTIFS('Долги'!$B$5:$B$100000,A11,'Долги'!$I$5:$I$100000,"Просрочен"))
C12: =IF(A12="","",SUMIF('Долги'!$B$5:$B$100000,A12,'Долги'!$E$5:$E$100000)) | D12: =IF(A12="","",SUMIF('Долги'!$B$5:$B$100000,A12,'Долги'!$G$5:$G$100000)) | E12: =IF(A12="","",C12-D12) | F12: =IF(A12="","",COUNTIFS('Долги'!$B$5:$B$100000,A12,'Долги'!$I$5:$I$100000,"Просрочен"))
C13: =IF(A13="","",SUMIF('Долги'!$B$5:$B$100000,A13,'Долги'!$E$5:$E$100000)) | D13: =IF(A13="","",SUMIF('Долги'!$B$5:$B$100000,A13,'Долги'!$G$5:$G$100000)) | E13: =IF(A13="","",C13-D13) | F13: =IF(A13="","",COUNTIFS('Долги'!$B$5:$B$100000,A13,'Долги'!$I$5:$I$100000,"Просрочен"))
C14: =IF(A14="","",SUMIF('Долги'!$B$5:$B$100000,A14,'Долги'!$E$5:$E$100000)) | D14: =IF(A14="","",SUMIF('Долги'!$B$5:$B$100000,A14,'Долги'!$G$5:$G$100000)) | E14: =IF(A14="","",C14-D14) | F14: =IF(A14="","",COUNTIFS('Долги'!$B$5:$B$100000,A14,'Долги'!$I$5:$I$100000,"Просрочен"))
C15: =IF(A15="","",SUMIF('Долги'!$B$5:$B$100000,A15,'Долги'!$E$5:$E$100000)) | D15: =IF(A15="","",SUMIF('Долги'!$B$5:$B$100000,A15,'Долги'!$G$5:$G$100000)) | E15: =IF(A15="","",C15-D15) | F15: =IF(A15="","",COUNTIFS('Долги'!$B$5:$B$100000,A15,'Долги'!$I$5:$I$100000,"Просрочен"))
C16: =IF(A16="","",SUMIF('Долги'!$B$5:$B$100000,A16,'Долги'!$E$5:$E$100000)) | D16: =IF(A16="","",SUMIF('Долги'!$B$5:$B$100000,A16,'Долги'!$G$5:$G$100000)) | E16: =IF(A16="","",C16-D16) | F16: =IF(A16="","",COUNTIFS('Долги'!$B$5:$B$100000,A16,'Долги'!$I$5:$I$100000,"Просрочен"))
C17: =IF(A17="","",SUMIF('Долги'!$B$5:$B$100000,A17,'Долги'!$E$5:$E$100000)) | D17: =IF(A17="","",SUMIF('Долги'!$B$5:$B$100000,A17,'Долги'!$G$5:$G$100000)) | E17: =IF(A17="","",C17-D17) | F17: =IF(A17="","",COUNTIFS('Долги'!$B$5:$B$100000,A17,'Долги'!$I$5:$I$100000,"Просрочен"))
C18: =IF(A18="","",SUMIF('Долги'!$B$5:$B$100000,A18,'Долги'!$E$5:$E$100000)) | D18: =IF(A18="","",SUMIF('Долги'!$B$5:$B$100000,A18,'Долги'!$G$5:$G$100000)) | E18: =IF(A18="","",C18-D18) | F18: =IF(A18="","",COUNTIFS('Долги'!$B$5:$B$100000,A18,'Долги'!$I$5:$I$100000,"Просрочен"))
... C304: =IF(A304="","",SUMIF('Долги'!$B$5:$B$100000,A304,'Долги'!$E$5:$E$100000)) | D304: =IF(A304="","",SUMIF('Долги'!$B$5:$B$100000,A304,'Долги'!$G$5:$G$100000)) | E304: =IF(A304="","",C304-D304) | F304: =IF(A304="","",COUNTIFS('Долги'!$B$5:$B$100000,A304,'Долги'!$I$5:$I$100000,"Просрочен"))

Sheet Инструкция
A1: Тетрадь долгов — как заполнять
A3: 1. На листе «Долги» удалите строки-образцы и записывайте каждый долг отдельной строкой: дату, клиента, телефон, что взял, сумму и срок оплаты.
A4: 2. Принёс клиент деньги — добавьте их в «Оплачено» в строке этого долга (например, =50000+30000). Остаток и статус изменятся сами: «Открыт», «Просрочен» или «Закрыт».
A5: 3. На листе «Клиенты» впишите каждого клиента один раз — сумма в долг, оплачено, остаток и число просроченных долгов посчитаются сами.
A6: 4. Имя клиента на обоих листах должно совпадать буква в букву: «Карим» и «Карим ака» для Excel — два разных человека.
A7: 5. Чтобы увидеть просроченные, выберите «Просрочен» в фильтре столбца «Статус».
A9: Шаблон бесплатный, меняйте его под себя. Источник: https://buysale.uz/ru/shablony-excel-dlya-magazina/
