Workbook

Sheet Kirim
A1: Kirim daftari
A2: Har kelgan tovar — bitta qator. Ta’minotchi nomini har safar bir xil yozing: «Ta’minotchilar» varag‘i summani shu nom bo‘yicha yig‘adi.
A3: Jami kirim summasi: | H3: =SUM(H5:H100000) -> 999000
A4: Sana | B4: Ta’minotchi | C4: Nakladnoy № | D4: Tovar | E4: Birlik | F4: Miqdor | G4: Kirim narxi | H4: Summa | I4: Sotuv narxi | J4: Ustama
A5: 46296 | B5: Ta’minotchi A | C5: 114 | D5: Guruch, 1 kg | E5: dona | F5: 20 | G5: 14000 | H5: =IFERROR(IF(OR(F5="",G5=""),"",F5*G5),"") -> 280000 | I5: 16500 | J5: =IFERROR(IF(OR(G5="",I5=""),"",(I5-G5)/G5),"") -> 0.17857143
A6: 46296 | B6: Ta’minotchi A | C6: 114 | D6: Shakar (tarozida) | E6: kg | F6: 50 | G6: 11500 | H6: =IFERROR(IF(OR(F6="",G6=""),"",F6*G6),"") -> 575000 | I6: 13000 | J6: =IFERROR(IF(OR(G6="",I6=""),"",(I6-G6)/G6),"") -> 0.13043478
A7: 46298 | B7: Ta’minotchi B | C7: 52 | D7: Kir sovuni, 200 g | E7: dona | F7: 24 | G7: 6000 | H7: =IFERROR(IF(OR(F7="",G7=""),"",F7*G7),"") -> 144000 | I7: 7500 | J7: =IFERROR(IF(OR(G7="",I7=""),"",(I7-G7)/G7),"") -> 0.25
H8: =IFERROR(IF(OR(F8="",G8=""),"",F8*G8),"") | J8: =IFERROR(IF(OR(G8="",I8=""),"",(I8-G8)/G8),"")
H9: =IFERROR(IF(OR(F9="",G9=""),"",F9*G9),"") | J9: =IFERROR(IF(OR(G9="",I9=""),"",(I9-G9)/G9),"")
H10: =IFERROR(IF(OR(F10="",G10=""),"",F10*G10),"") | J10: =IFERROR(IF(OR(G10="",I10=""),"",(I10-G10)/G10),"")
H11: =IFERROR(IF(OR(F11="",G11=""),"",F11*G11),"") | J11: =IFERROR(IF(OR(G11="",I11=""),"",(I11-G11)/G11),"")
H12: =IFERROR(IF(OR(F12="",G12=""),"",F12*G12),"") | J12: =IFERROR(IF(OR(G12="",I12=""),"",(I12-G12)/G12),"")
H13: =IFERROR(IF(OR(F13="",G13=""),"",F13*G13),"") | J13: =IFERROR(IF(OR(G13="",I13=""),"",(I13-G13)/G13),"")
H14: =IFERROR(IF(OR(F14="",G14=""),"",F14*G14),"") | J14: =IFERROR(IF(OR(G14="",I14=""),"",(I14-G14)/G14),"")
H15: =IFERROR(IF(OR(F15="",G15=""),"",F15*G15),"") | J15: =IFERROR(IF(OR(G15="",I15=""),"",(I15-G15)/G15),"")
H16: =IFERROR(IF(OR(F16="",G16=""),"",F16*G16),"") | J16: =IFERROR(IF(OR(G16="",I16=""),"",(I16-G16)/G16),"")
H17: =IFERROR(IF(OR(F17="",G17=""),"",F17*G17),"") | J17: =IFERROR(IF(OR(G17="",I17=""),"",(I17-G17)/G17),"")
H18: =IFERROR(IF(OR(F18="",G18=""),"",F18*G18),"") | J18: =IFERROR(IF(OR(G18="",I18=""),"",(I18-G18)/G18),"")
H19: =IFERROR(IF(OR(F19="",G19=""),"",F19*G19),"") | J19: =IFERROR(IF(OR(G19="",I19=""),"",(I19-G19)/G19),"")
... H1004: =IFERROR(IF(OR(F1004="",G1004=""),"",F1004*G1004),"") | J1004: =IFERROR(IF(OR(G1004="",I1004=""),"",(I1004-G1004)/G1004),"")

Sheet Ta’minotchilar
A1: Ta’minotchilar: olingan, to‘langan, qarz
A2: Nomni «Kirim» varag‘idagi kabi yozing. «To‘langan»ga bergan pulingizni yozasiz; bir necha to‘lov bo‘lsa — =500000+300000.
A3: Jami qarzim: | E3: =SUM(E5:E100000) -> 355000
A4: Ta’minotchi | B4: Telefon | C4: Olingan tovar | D4: To‘langan | E4: Qarzim | F4: Izoh
A5: Ta’minotchi A | C5: =IF(A5="","",SUMIF('Kirim'!$B$5:$B$100000,A5,'Kirim'!$H$5:$H$100000)) -> 855000 | D5: 500000 | E5: =IFERROR(IF(A5="","",C5-N(D5)),"") -> 355000
A6: Ta’minotchi B | C6: =IF(A6="","",SUMIF('Kirim'!$B$5:$B$100000,A6,'Kirim'!$H$5:$H$100000)) -> 144000 | D6: 144000 | E6: =IFERROR(IF(A6="","",C6-N(D6)),"") -> 0
C7: =IF(A7="","",SUMIF('Kirim'!$B$5:$B$100000,A7,'Kirim'!$H$5:$H$100000)) | E7: =IFERROR(IF(A7="","",C7-N(D7)),"")
C8: =IF(A8="","",SUMIF('Kirim'!$B$5:$B$100000,A8,'Kirim'!$H$5:$H$100000)) | E8: =IFERROR(IF(A8="","",C8-N(D8)),"")
C9: =IF(A9="","",SUMIF('Kirim'!$B$5:$B$100000,A9,'Kirim'!$H$5:$H$100000)) | E9: =IFERROR(IF(A9="","",C9-N(D9)),"")
C10: =IF(A10="","",SUMIF('Kirim'!$B$5:$B$100000,A10,'Kirim'!$H$5:$H$100000)) | E10: =IFERROR(IF(A10="","",C10-N(D10)),"")
C11: =IF(A11="","",SUMIF('Kirim'!$B$5:$B$100000,A11,'Kirim'!$H$5:$H$100000)) | E11: =IFERROR(IF(A11="","",C11-N(D11)),"")
C12: =IF(A12="","",SUMIF('Kirim'!$B$5:$B$100000,A12,'Kirim'!$H$5:$H$100000)) | E12: =IFERROR(IF(A12="","",C12-N(D12)),"")
C13: =IF(A13="","",SUMIF('Kirim'!$B$5:$B$100000,A13,'Kirim'!$H$5:$H$100000)) | E13: =IFERROR(IF(A13="","",C13-N(D13)),"")
C14: =IF(A14="","",SUMIF('Kirim'!$B$5:$B$100000,A14,'Kirim'!$H$5:$H$100000)) | E14: =IFERROR(IF(A14="","",C14-N(D14)),"")
C15: =IF(A15="","",SUMIF('Kirim'!$B$5:$B$100000,A15,'Kirim'!$H$5:$H$100000)) | E15: =IFERROR(IF(A15="","",C15-N(D15)),"")
C16: =IF(A16="","",SUMIF('Kirim'!$B$5:$B$100000,A16,'Kirim'!$H$5:$H$100000)) | E16: =IFERROR(IF(A16="","",C16-N(D16)),"")
C17: =IF(A17="","",SUMIF('Kirim'!$B$5:$B$100000,A17,'Kirim'!$H$5:$H$100000)) | E17: =IFERROR(IF(A17="","",C17-N(D17)),"")
C18: =IF(A18="","",SUMIF('Kirim'!$B$5:$B$100000,A18,'Kirim'!$H$5:$H$100000)) | E18: =IFERROR(IF(A18="","",C18-N(D18)),"")
... C304: =IF(A304="","",SUMIF('Kirim'!$B$5:$B$100000,A304,'Kirim'!$H$5:$H$100000)) | E304: =IFERROR(IF(A304="","",C304-N(D304)),"")

Sheet Qo‘llanma
A1: Kirim daftari — qanday to‘ldiriladi
A3: 1. «Kirim» varag‘ida namuna qatorlarni o‘chirib, kelgan tovarni yozing: sana, ta’minotchi, nakladnoy raqami, tovar, birlik, miqdor va kirim narxi.
A4: 2. Summa o‘zi chiqadi. Sotuv narxini ham yozsangiz — ustama foizi chiqadi.
A5: 3. Ta’minotchi nomini har safar aynan bir xil yozing: «Ta’minotchilar» varag‘i summani shu nom bo‘yicha yig‘adi.
A6: 4. «Ta’minotchilar» varag‘iga har ta’minotchini bir marta yozing va «To‘langan»ga bergan pulingizni qo‘shib boring — «Qarzim» o‘zi chiqadi.
A7: 5. Formulalar «Kirim»da 1 000 ta, «Ta’minotchilar»da 300 ta qatorga qo‘yilgan. Ko‘proq kerak bo‘lsa, oxirgi qatorni pastga cho‘zib nusxalang — jami va ta’minotchi bo‘yicha yig‘indilar yangi qatorlarni ham hisobga oladi.
A9: Shablon bepul, o‘zingizga moslab o‘zgartiring. Manba: https://buysale.uz/excel-shablonlar/
